BEGIN:VCALENDAR
VERSION:2.0
PRODID:-//María Arandia - ECPv6.15.15//NONSGML v1.0//EN
CALSCALE:GREGORIAN
METHOD:PUBLISH
X-WR-CALNAME:María Arandia
X-ORIGINAL-URL:https://mariarandia.com
X-WR-CALDESC:Eventos para María Arandia
REFRESH-INTERVAL;VALUE=DURATION:PT1H
X-Robots-Tag:noindex
X-PUBLISHED-TTL:PT1H
BEGIN:VTIMEZONE
TZID:UTC
BEGIN:STANDARD
TZOFFSETFROM:+0000
TZOFFSETTO:+0000
TZNAME:UTC
DTSTART:20230101T000000
END:STANDARD
END:VTIMEZONE
BEGIN:VEVENT
DTSTART;TZID=UTC:20251220T200000
DTEND;TZID=UTC:20251220T213000
DTSTAMP:20260421T131926
CREATED:20251023T141842Z
LAST-MODIFIED:20251029T082721Z
UID:631-1766260800-1766266200@mariarandia.com
SUMMARY:Kairós - Espectáculo de Magia de Cerca
DESCRIPTION:Kairós no es un truco\, es un instante suspendido. \nUn metrónomo se detiene y\, con él\, el tiempo deja de ser una cuenta atrás para convertirse en un latido compartido. Entre cartas que susurran historias\, objetos que despiertan recuerdos y silencios que se llenan de misterio\, la realidad se dobla para dejar paso a lo imposible. \nEn este viaje íntimo de magia de cerca\, el público no solo observa: habita un lugar donde cada momento es irrepetible\, donde el tiempo deja de medirse en minutos y se siente en emociones. \nKairós a través de la magia\, la poesía y el humor es la invitación a detenerse\, mirar y vivir el ahora… antes de que vuelva a escapar. \nUna invitación a volver a sentirnos niños. \nDURACIÓN: 60 minutos \nESPECTÁCULO DE MAGIA PARA ADULTOS\, RECOMENDADO PARA MAYORES DE 8 AÑOS.
URL:https://mariarandia.com/eventos/kairos-espectaculo-de-magia-de-cerca-2/
LOCATION:La Farándula Microteatro Taberna\, Egia Kalea\, 10\, Donostia-San Sebastián\, Guipúzcoa\, 20012\, Spain
END:VEVENT
BEGIN:VEVENT
DTSTART;TZID=UTC:20251219T200000
DTEND;TZID=UTC:20251219T213000
DTSTAMP:20260421T131926
CREATED:20251023T141804Z
LAST-MODIFIED:20251023T142121Z
UID:629-1766174400-1766179800@mariarandia.com
SUMMARY:Kairós - Espectáculo de magia de cerca
DESCRIPTION:Kairós no es un truco\, es un instante suspendido. \nUn metrónomo se detiene y\, con él\, el tiempo deja de ser una cuenta atrás para convertirse en un latido compartido. Entre cartas que susurran historias\, objetos que despiertan recuerdos y silencios que se llenan de misterio\, la realidad se dobla para dejar paso a lo imposible. \nEn este viaje íntimo de magia de cerca\, el público no solo observa: habita un lugar donde cada momento es irrepetible\, donde el tiempo deja de medirse en minutos y se siente en emociones. \nKairós a través de la magia\, la poesía y el humor es la invitación a detenerse\, mirar y vivir el ahora… antes de que vuelva a escapar. \nUna invitación a volver a sentirnos niños. \nDURACIÓN: 60 minutos \nESPECTÁCULO DE MAGIA PARA ADULTOS\, RECOMENDADO PARA MAYORES DE 8 AÑOS.
URL:https://mariarandia.com/eventos/kairos-espectaculo-de-magia-de-cerca/
LOCATION:La Farándula Microteatro Taberna\, Egia Kalea\, 10\, Donostia-San Sebastián\, Guipúzcoa\, 20012\, Spain
END:VEVENT
BEGIN:VEVENT
DTSTART;TZID=UTC:20251121T000000
DTEND;TZID=UTC:20251121T235959
DTSTAMP:20260421T131926
CREATED:20251023T141532Z
LAST-MODIFIED:20251023T141532Z
UID:627-1763683200-1763769599@mariarandia.com
SUMMARY:Taller de Magia
DESCRIPTION:
URL:https://mariarandia.com/eventos/taller-de-magia/
LOCATION:Guipúzcoa
END:VEVENT
BEGIN:VEVENT
DTSTART;TZID=UTC:20251023T183000
DTEND;TZID=UTC:20251023T203000
DTSTAMP:20260421T131926
CREATED:20251023T141422Z
LAST-MODIFIED:20251023T141422Z
UID:624-1761244200-1761251400@mariarandia.com
SUMMARY:Magia Poteo en Zestoa
DESCRIPTION:
URL:https://mariarandia.com/eventos/magia-poteo-en-zestoa/
LOCATION:Zestoa\, Spain
END:VEVENT
BEGIN:VEVENT
DTSTART;TZID=UTC:20250719T190000
DTEND;TZID=UTC:20250719T200000
DTSTAMP:20260421T131926
CREATED:20250712T102542Z
LAST-MODIFIED:20250712T102542Z
UID:536-1752951600-1752955200@mariarandia.com
SUMMARY:Magia de cerca en Villanúa - Festival de Música y Arte
DESCRIPTION:
URL:https://mariarandia.com/eventos/magia-de-cerca-en-villanua-festival-de-musica-y-arte/
LOCATION:Guipúzcoa
END:VEVENT
BEGIN:VEVENT
DTSTART;TZID=UTC:20241226T173000
DTEND;TZID=UTC:20241226T190000
DTSTAMP:20260421T131926
CREATED:20241107T153623Z
LAST-MODIFIED:20241107T153623Z
UID:304-1735234200-1735239600@mariarandia.com
SUMMARY:Gala Mágica Aduna: "Adunako Gabon Magikoak"
DESCRIPTION:Gala mágica para toda la familia de la mano de Oier Jurado\, Fernando de Rozas\, Eneko Gutiérrez y María Arandia. \nEUSKARAZ – EN EUSKERA
URL:https://mariarandia.com/eventos/gala-magica-aduna-adunako-gabon-magikoak/
LOCATION:Guipúzcoa
END:VEVENT
BEGIN:VEVENT
DTSTART;TZID=UTC:20241129T000000
DTEND;TZID=UTC:20241129T235959
DTSTAMP:20260421T131926
CREATED:20241107T152337Z
LAST-MODIFIED:20241107T152337Z
UID:301-1732838400-1732924799@mariarandia.com
SUMMARY:Show Familiar Enikma
DESCRIPTION:Espectáculo para todos los públicos en Donostia-San Sebastián de la mano de Enikma. (María Arandia y Eneko Gutiérrez).
URL:https://mariarandia.com/eventos/show-familiar-enikma/
LOCATION:Guipúzcoa
END:VEVENT
BEGIN:VEVENT
DTSTART;TZID=UTC:20241117T000000
DTEND;TZID=UTC:20241117T235959
DTSTAMP:20260421T131926
CREATED:20241107T151353Z
LAST-MODIFIED:20241107T151353Z
UID:296-1731801600-1731887999@mariarandia.com
SUMMARY:Gala de magia de cerca "Mirariak" en Elgoibar
DESCRIPTION:
URL:https://mariarandia.com/eventos/gala-de-magia-de-cerca-mirariak-en-elgoibar/
LOCATION:Guipúzcoa
END:VEVENT
END:VCALENDAR